BEGIN:VCALENDAR
VERSION:2.0
PRODID:-//High Road Leaders - ECPv6.15.20//NONSGML v1.0//EN
CALSCALE:GREGORIAN
METHOD:PUBLISH
X-ORIGINAL-URL:https://highroadleaders.ca
X-WR-CALDESC:Events for High Road Leaders
REFRESH-INTERVAL;VALUE=DURATION:PT1H
X-Robots-Tag:noindex
X-PUBLISHED-TTL:PT1H
BEGIN:VTIMEZONE
TZID:America/Edmonton
BEGIN:DAYLIGHT
TZOFFSETFROM:-0700
TZOFFSETTO:-0600
TZNAME:MDT
DTSTART:20250309T090000
END:DAYLIGHT
BEGIN:STANDARD
TZOFFSETFROM:-0600
TZOFFSETTO:-0700
TZNAME:MST
DTSTART:20251102T080000
END:STANDARD
BEGIN:DAYLIGHT
TZOFFSETFROM:-0700
TZOFFSETTO:-0600
TZNAME:MDT
DTSTART:20260308T090000
END:DAYLIGHT
BEGIN:STANDARD
TZOFFSETFROM:-0600
TZOFFSETTO:-0700
TZNAME:MST
DTSTART:20261101T080000
END:STANDARD
BEGIN:DAYLIGHT
TZOFFSETFROM:-0700
TZOFFSETTO:-0600
TZNAME:MDT
DTSTART:20270314T090000
END:DAYLIGHT
BEGIN:STANDARD
TZOFFSETFROM:-0600
TZOFFSETTO:-0700
TZNAME:MST
DTSTART:20271107T080000
END:STANDARD
END:VTIMEZONE
BEGIN:VEVENT
DTSTART;TZID=America/Edmonton:20260224T170000
DTEND;TZID=America/Edmonton:20260224T210000
DTSTAMP:20260419T131817
CREATED:20250929T204208Z
LAST-MODIFIED:20260324T011631Z
UID:10000208-1771952400-1771966800@highroadleaders.ca
SUMMARY:Live2Lead ~ Virtual Summit
DESCRIPTION:🌟 Virtual Leadership Experience 🌟\nJoin us for an unforgettable virtual leadership event featuring world-class leaders who will inspire and equip you to grow your influence\, strengthen your leadership\, and create lasting impact. \n🎤 Featured Speakers\nFebruary 3 ~ 7 pm ET\, repeated at 7 pm MT \n\nJohn C. Maxwell – #1 leadership expert and bestselling author\, sharing timeless principles for leading with impact.\nTiffani Bova – Growth strategist and former Salesforce executive\, on driving innovation and customer experience.\n\nFebruary 10 ~ 7 pm ET\, repeated at 7 pm MT \n\nJesse Cole – Owner of The Savannah Bananas\, revealing how to turn customers into raving fans.\nAnthony Trucks – Former NFL athlete and identity coach\, on shifting mindset to unlock potential.\n\nFebruary 17 ~ 7 pm ET\, repeated at 7 pm MT \n\nValorie Burton – Resilience expert and bestselling author\, teaching how to thrive through change.\nCraig Groeschel – Leadership podcast host and Life.Church founder\, bringing practical leadership strategies.\n\nFebruary 24 ~ 7 pm ET\, repeated at 7 pm MT \n\nMark Cole – CEO of Maxwell Leadership\, on transforming vision into real-world results.\nJohn C. Maxwell – #1 leadership expert and bestselling author\, sharing timeless principles for leading with impact.\n\nPurchase an event pass that includes all weeks or one week at a time.\n\n\n\n\nHigh Road Leaders is a registered non-profit.  Prices are inclusive of GST (GST #736442336RT0001).
URL:https://highroadleaders.ca/event/live2lead-virtual-summit/2026-02-24/
LOCATION:Zoom\, Online
CATEGORIES:Calgary,Conferences
ATTACH;FMTTYPE=image/png:https://highroadleaders.ca/wp-content/uploads/2025/09/Feature-Image-Zoom-L2L.png
ORGANIZER;CN="Darlington Chuks Dibie":MAILTO:evangdcworld@gmail.com
END:VEVENT
BEGIN:VEVENT
DTSTART;TZID=America/Edmonton:20260217T170000
DTEND;TZID=America/Edmonton:20260217T210000
DTSTAMP:20260419T131817
CREATED:20250929T204208Z
LAST-MODIFIED:20260324T011631Z
UID:10000207-1771347600-1771362000@highroadleaders.ca
SUMMARY:Live2Lead ~ Virtual Summit
DESCRIPTION:🌟 Virtual Leadership Experience 🌟\nJoin us for an unforgettable virtual leadership event featuring world-class leaders who will inspire and equip you to grow your influence\, strengthen your leadership\, and create lasting impact. \n🎤 Featured Speakers\nFebruary 3 ~ 7 pm ET\, repeated at 7 pm MT \n\nJohn C. Maxwell – #1 leadership expert and bestselling author\, sharing timeless principles for leading with impact.\nTiffani Bova – Growth strategist and former Salesforce executive\, on driving innovation and customer experience.\n\nFebruary 10 ~ 7 pm ET\, repeated at 7 pm MT \n\nJesse Cole – Owner of The Savannah Bananas\, revealing how to turn customers into raving fans.\nAnthony Trucks – Former NFL athlete and identity coach\, on shifting mindset to unlock potential.\n\nFebruary 17 ~ 7 pm ET\, repeated at 7 pm MT \n\nValorie Burton – Resilience expert and bestselling author\, teaching how to thrive through change.\nCraig Groeschel – Leadership podcast host and Life.Church founder\, bringing practical leadership strategies.\n\nFebruary 24 ~ 7 pm ET\, repeated at 7 pm MT \n\nMark Cole – CEO of Maxwell Leadership\, on transforming vision into real-world results.\nJohn C. Maxwell – #1 leadership expert and bestselling author\, sharing timeless principles for leading with impact.\n\nPurchase an event pass that includes all weeks or one week at a time.\n\n\n\n\nHigh Road Leaders is a registered non-profit.  Prices are inclusive of GST (GST #736442336RT0001).
URL:https://highroadleaders.ca/event/live2lead-virtual-summit/2026-02-17/
LOCATION:Zoom\, Online
CATEGORIES:Calgary,Conferences
ATTACH;FMTTYPE=image/png:https://highroadleaders.ca/wp-content/uploads/2025/09/Feature-Image-Zoom-L2L.png
ORGANIZER;CN="Darlington Chuks Dibie":MAILTO:evangdcworld@gmail.com
END:VEVENT
BEGIN:VEVENT
DTSTART;TZID=America/Edmonton:20260210T170000
DTEND;TZID=America/Edmonton:20260210T210000
DTSTAMP:20260419T131817
CREATED:20250929T204208Z
LAST-MODIFIED:20260324T011631Z
UID:10000206-1770742800-1770757200@highroadleaders.ca
SUMMARY:Live2Lead ~ Virtual Summit
DESCRIPTION:🌟 Virtual Leadership Experience 🌟\nJoin us for an unforgettable virtual leadership event featuring world-class leaders who will inspire and equip you to grow your influence\, strengthen your leadership\, and create lasting impact. \n🎤 Featured Speakers\nFebruary 3 ~ 7 pm ET\, repeated at 7 pm MT \n\nJohn C. Maxwell – #1 leadership expert and bestselling author\, sharing timeless principles for leading with impact.\nTiffani Bova – Growth strategist and former Salesforce executive\, on driving innovation and customer experience.\n\nFebruary 10 ~ 7 pm ET\, repeated at 7 pm MT \n\nJesse Cole – Owner of The Savannah Bananas\, revealing how to turn customers into raving fans.\nAnthony Trucks – Former NFL athlete and identity coach\, on shifting mindset to unlock potential.\n\nFebruary 17 ~ 7 pm ET\, repeated at 7 pm MT \n\nValorie Burton – Resilience expert and bestselling author\, teaching how to thrive through change.\nCraig Groeschel – Leadership podcast host and Life.Church founder\, bringing practical leadership strategies.\n\nFebruary 24 ~ 7 pm ET\, repeated at 7 pm MT \n\nMark Cole – CEO of Maxwell Leadership\, on transforming vision into real-world results.\nJohn C. Maxwell – #1 leadership expert and bestselling author\, sharing timeless principles for leading with impact.\n\nPurchase an event pass that includes all weeks or one week at a time.\n\n\n\n\nHigh Road Leaders is a registered non-profit.  Prices are inclusive of GST (GST #736442336RT0001).
URL:https://highroadleaders.ca/event/live2lead-virtual-summit/2026-02-10/
LOCATION:Zoom\, Online
CATEGORIES:Calgary,Conferences
ATTACH;FMTTYPE=image/png:https://highroadleaders.ca/wp-content/uploads/2025/09/Feature-Image-Zoom-L2L.png
ORGANIZER;CN="Darlington Chuks Dibie":MAILTO:evangdcworld@gmail.com
END:VEVENT
BEGIN:VEVENT
DTSTART;TZID=America/Edmonton:20260203T170000
DTEND;TZID=America/Edmonton:20260203T210000
DTSTAMP:20260419T131817
CREATED:20250929T204208Z
LAST-MODIFIED:20260324T011631Z
UID:10000205-1770138000-1770152400@highroadleaders.ca
SUMMARY:Live2Lead ~ Virtual Summit
DESCRIPTION:🌟 Virtual Leadership Experience 🌟\nJoin us for an unforgettable virtual leadership event featuring world-class leaders who will inspire and equip you to grow your influence\, strengthen your leadership\, and create lasting impact. \n🎤 Featured Speakers\nFebruary 3 ~ 7 pm ET\, repeated at 7 pm MT \n\nJohn C. Maxwell – #1 leadership expert and bestselling author\, sharing timeless principles for leading with impact.\nTiffani Bova – Growth strategist and former Salesforce executive\, on driving innovation and customer experience.\n\nFebruary 10 ~ 7 pm ET\, repeated at 7 pm MT \n\nJesse Cole – Owner of The Savannah Bananas\, revealing how to turn customers into raving fans.\nAnthony Trucks – Former NFL athlete and identity coach\, on shifting mindset to unlock potential.\n\nFebruary 17 ~ 7 pm ET\, repeated at 7 pm MT \n\nValorie Burton – Resilience expert and bestselling author\, teaching how to thrive through change.\nCraig Groeschel – Leadership podcast host and Life.Church founder\, bringing practical leadership strategies.\n\nFebruary 24 ~ 7 pm ET\, repeated at 7 pm MT \n\nMark Cole – CEO of Maxwell Leadership\, on transforming vision into real-world results.\nJohn C. Maxwell – #1 leadership expert and bestselling author\, sharing timeless principles for leading with impact.\n\nPurchase an event pass that includes all weeks or one week at a time.\n\n\n\n\nHigh Road Leaders is a registered non-profit.  Prices are inclusive of GST (GST #736442336RT0001).
URL:https://highroadleaders.ca/event/live2lead-virtual-summit/2026-02-03/
LOCATION:Zoom\, Online
CATEGORIES:Calgary,Conferences
ATTACH;FMTTYPE=image/png:https://highroadleaders.ca/wp-content/uploads/2025/09/Feature-Image-Zoom-L2L.png
ORGANIZER;CN="Darlington Chuks Dibie":MAILTO:evangdcworld@gmail.com
END:VEVENT
END:VCALENDAR