BEGIN:VCALENDAR
VERSION:2.0
PRODID:-//High Road Leaders - ECPv6.15.20//NONSGML v1.0//EN
CALSCALE:GREGORIAN
METHOD:PUBLISH
X-WR-CALNAME:High Road Leaders
X-ORIGINAL-URL:https://highroadleaders.ca
X-WR-CALDESC:Events for High Road Leaders
REFRESH-INTERVAL;VALUE=DURATION:PT1H
X-Robots-Tag:noindex
X-PUBLISHED-TTL:PT1H
BEGIN:VTIMEZONE
TZID:America/Edmonton
BEGIN:DAYLIGHT
TZOFFSETFROM:-0700
TZOFFSETTO:-0600
TZNAME:MDT
DTSTART:20230312T090000
END:DAYLIGHT
BEGIN:STANDARD
TZOFFSETFROM:-0600
TZOFFSETTO:-0700
TZNAME:MST
DTSTART:20231105T080000
END:STANDARD
BEGIN:DAYLIGHT
TZOFFSETFROM:-0700
TZOFFSETTO:-0600
TZNAME:MDT
DTSTART:20240310T090000
END:DAYLIGHT
BEGIN:STANDARD
TZOFFSETFROM:-0600
TZOFFSETTO:-0700
TZNAME:MST
DTSTART:20241103T080000
END:STANDARD
BEGIN:DAYLIGHT
TZOFFSETFROM:-0700
TZOFFSETTO:-0600
TZNAME:MDT
DTSTART:20250309T090000
END:DAYLIGHT
BEGIN:STANDARD
TZOFFSETFROM:-0600
TZOFFSETTO:-0700
TZNAME:MST
DTSTART:20251102T080000
END:STANDARD
BEGIN:DAYLIGHT
TZOFFSETFROM:-0700
TZOFFSETTO:-0600
TZNAME:MDT
DTSTART:20260308T090000
END:DAYLIGHT
BEGIN:STANDARD
TZOFFSETFROM:-0600
TZOFFSETTO:-0700
TZNAME:MST
DTSTART:20261101T080000
END:STANDARD
END:VTIMEZONE
BEGIN:VEVENT
DTSTART;TZID=America/Edmonton:20250529T113000
DTEND;TZID=America/Edmonton:20250529T130000
DTSTAMP:20260419T233359
CREATED:20241202T170546Z
LAST-MODIFIED:20250103T021354Z
UID:10000021-1748518200-1748523600@highroadleaders.ca
SUMMARY:Airdrie Connections May 29
DESCRIPTION:🌟 You’re Invited to Airdrie Connections at Old Town! 🌟 \nConnect. Collaborate. Recharge. \nStep away from your busy schedule and join us for a relaxed lunch of meaningful conversations\, networking\, and community at Old Town Pizza. \n📅 When: May 29\, 11:30 am to 1:00 pm\n📍 Where: Old Town Pizza\n🎯 Who’s Invited: Local professionals and business leaders looking to grow\, connect\, and share ideas \nThis is your chance to:\n✅ Build relationships with like-minded individuals in a welcoming atmosphere\n✅ Exchange insights\, spark new ideas\, and explore collaborations\n✅ Enjoy great food and conversation with people who get your drive and ambitions \nWhether you’re looking to meet new faces\, catch up with familiar ones\, or simply enjoy a break from your routine\, this gathering is for you. \nBring your business cards\, your stories\, and your appetite for good food and great company! We’d love to see you there. \n👉 RSVP today to save your spot! \nTogether\, we can build connections that inspire growth and create lasting impact.
URL:https://highroadleaders.ca/event/airdrie-connections-may-29/
LOCATION:Old Town Pizza\, 216 Edmonton Trail NE\, Airdrie\, AB\, T4B 1R9\, Canada
CATEGORIES:Airdrie Connections
ATTACH;FMTTYPE=image/png:https://highroadleaders.ca/wp-content/uploads/2024/12/Social-Event-Image-2.png
END:VEVENT
BEGIN:VEVENT
DTSTART;TZID=America/Edmonton:20250522T120000
DTEND;TZID=America/Edmonton:20250522T130000
DTSTAMP:20260419T233359
CREATED:20250101T094006Z
LAST-MODIFIED:20250401T003118Z
UID:10000032-1747915200-1747918800@highroadleaders.ca
SUMMARY:Webinar - Decision Making Under Pressure
DESCRIPTION:Decision Making Under Pressure\n			\n				\n				\n				\n				\n				Join us in May for a transformative webinar designed to help you excel when the stakes are high. In “Decision Making Under Pressure\,” you’ll learn practical strategies to remain calm\, focused\, and effective in high-stress situations. \nDiscover how to: \n\nAnalyze critical information quickly and accurately.\nWeigh options to make informed decisions under tight deadlines.\nStrengthen your resilience and confidence during intense scenarios.\n\nThis session is perfect for leaders and professionals who want to thrive in challenging environments. Don’t let pressure dictate your decisions—equip yourself with the tools to succeed! \n			\n			\n				\n				\n				\n				\n			\n			\n				\n				\n				\n				\n				\n				\n				\n				\n				\n				\n			\n				Register for this Zoom Webinar HERE!
URL:https://highroadleaders.ca/event/webinar-5/
LOCATION:AB
CATEGORIES:Webinars
ATTACH;FMTTYPE=image/png:https://highroadleaders.ca/wp-content/uploads/2025/01/Decision-Feature-Image-1.png
ORGANIZER;CN="Webinars":MAILTO:admin@highroadleaders.ca
END:VEVENT
BEGIN:VEVENT
DTSTART;TZID=America/Edmonton:20250411T113000
DTEND;TZID=America/Edmonton:20250411T130000
DTSTAMP:20260419T233359
CREATED:20241202T175244Z
LAST-MODIFIED:20250222T024628Z
UID:10000023-1744371000-1744376400@highroadleaders.ca
SUMMARY:Webinar - Effective Communication for Leaders
DESCRIPTION:Effective Communication for Leaders\n			\n				\n				\n				\n				\n				\n\n\n\nDo you ever feel like your message isn’t landing the way you intended? Whether you’re leading a team\, managing a project\, or inspiring your organization\, communication is the key to building trust\, driving engagement\, and achieving results. \nJoin us for “Effective Communication for Leaders\,” a powerful webinar designed to help leaders like you unlock the secrets to impactful communication. In this session\, you’ll discover: Proven strategies to convey your message clearly and confidently. How to adapt your communication style to connect with diverse personalities. Tools to navigate difficult conversations with ease and professionalism. This webinar is ideal for leaders who want to elevate their influence\, foster stronger relationships\, and create a culture of open and effective communication. Don’t miss this opportunity to sharpen your skills and grow as a leader. Let’s transform the way you communicate! Reserve your spot today and take the first step toward becoming the leader everyone listens to. \n\n\n\n\n\n\n\n\n\n			\n			\n				\n				\n				\n				\n			\n			\n				\n				\n				\n				\n				\n				\n				\n				\n				\n				\n			\n				Register for this Zoom Webinar HERE!
URL:https://highroadleaders.ca/event/workshop-4/
LOCATION:AB
CATEGORIES:Webinars
ATTACH;FMTTYPE=image/png:https://highroadleaders.ca/wp-content/uploads/2024/12/Effective-Communication-Feature-Image-1.png
ORGANIZER;CN="Webinars":MAILTO:admin@highroadleaders.ca
END:VEVENT
BEGIN:VEVENT
DTSTART;TZID=America/Edmonton:20250313T120000
DTEND;TZID=America/Edmonton:20250313T130000
DTSTAMP:20260419T233359
CREATED:20241202T223554Z
LAST-MODIFIED:20250222T022503Z
UID:10000028-1741867200-1741870800@highroadleaders.ca
SUMMARY:Webinar - Crisis Leadership with Scott Simon
DESCRIPTION:Crisis Leadership: Leading with Clarity in Challenging Times\n			\n				\n				\n				\n				\n				\n  \nIn moments of crisis\, strong leadership can make all the difference. This webinar is designed to equip you with the tools and strategies to lead effectively when it matters most. \n What You’ll Learn: \n\nHow to make confident decisions under pressure\nEffective communication techniques to keep your team aligned and focused\nStrategies for managing uncertainty and maintaining resilience\nBuilding trust and fostering collaboration in challenging situations\n\nWhether you’re navigating an internal challenge\, managing external disruptions\, or simply preparing for the unexpected\, this session will provide actionable insights to help you step up as a leader when it counts. \n When: March 13\, 12:00 pm – 1:00 pm MT Where: Zoom online \nDon’t wait for a crisis to hit—prepare now to lead with clarity and confidence. \n			\n			\n				\n				\n				\n				\n			\n			\n				\n				\n				\n				\n				\n				\n				\n				\n				\n				\n			\n				Register for this Zoom Webinar HERE!
URL:https://highroadleaders.ca/event/webinar-3/
LOCATION:AB
CATEGORIES:Webinars
ATTACH;FMTTYPE=image/png:https://highroadleaders.ca/wp-content/uploads/2024/12/Workshop-Event-Image-1.png
ORGANIZER;CN="Webinars":MAILTO:admin@highroadleaders.ca
END:VEVENT
BEGIN:VEVENT
DTSTART;TZID=America/Edmonton:20250214T090000
DTEND;TZID=America/Edmonton:20250214T100000
DTSTAMP:20260419T233359
CREATED:20250202T175808Z
LAST-MODIFIED:20250202T191328Z
UID:10000123-1739523600-1739527200@highroadleaders.ca
SUMMARY:Flash Friday - Ryan Leak
DESCRIPTION:Flash Friday Break: Chasing Failure with Ryan Leak\nJoin us for a Flash Friday Break featuring Ryan Leak\, a dynamic simulcast speaker from a previous Live2Lead Simulcast Event like the one coming up on February 21! This free\, high-impact session will give you a sneak peek into the powerful insights and inspiration you’ll experience during the full event on February 21. \nRyan Leak’s talk\, “Chasing Failure: How Falling Short Sets You Up for Success\,” challenges the way we view setbacks. Instead of fearing failure\, what if you chased it? Ryan shares real-life experiences and practical strategies that will shift your mindset\, helping you embrace failure as a stepping stone to growth and success. \nThis bite-sized leadership boost is the perfect way to experience the energy and value of Live2Lead before the full event. Don’t miss this chance to learn\, connect\, and get inspired—all in a short\, engaging session! \n🗓 Date: Friday\, February 14\, 9-10 am MT (Noon-1 AT)\n📍 Location: Zoom Online\n💰 Cost: FREE \n💡 Want more? The full Live2Lead Simulcast on February 21 will feature John Maxwell\, Chaunté Lowe\, Michael Jr.\, Valorie Burton\, and Chris Robinson. Secure your ticket for just $49! \n📢 Reserve your spot now and get ready to chase failure toward success!
URL:https://highroadleaders.ca/event/flash-friday-ryan-leak/
LOCATION:https://highroadleaders.ca/event/flash-friday-ryan-leak/
CATEGORIES:Calgary,Conferences,Edmonton
ATTACH;FMTTYPE=image/png:https://highroadleaders.ca/wp-content/uploads/2025/02/Featured-Speaker-Ryan-Leak-1600-x-900-px.png
ORGANIZER;CN="High Road Summits":MAILTO:info@highroadleaders.ca
END:VEVENT
BEGIN:VEVENT
DTSTART;TZID=America/Edmonton:20241101T090000
DTEND;TZID=America/Edmonton:20241101T130000
DTSTAMP:20260419T233359
CREATED:20240727T195612Z
LAST-MODIFIED:20240727T195612Z
UID:10000009-1730451600-1730466000@highroadleaders.ca
SUMMARY:Live2Lead Calgary | Maximize Your Life & Work
DESCRIPTION:Keynote speakers
URL:https://highroadleaders.ca/event/live2lead-calgary/
LOCATION:https://highroadleaders.ca/event/live2lead-calgary/
CATEGORIES:Calgary,Conferences
ATTACH;FMTTYPE=:
END:VEVENT
END:VCALENDAR