BEGIN:VCALENDAR
VERSION:2.0
PRODID:-//High Road Leaders - ECPv6.15.20//NONSGML v1.0//EN
CALSCALE:GREGORIAN
METHOD:PUBLISH
X-WR-CALNAME:High Road Leaders
X-ORIGINAL-URL:https://highroadleaders.ca
X-WR-CALDESC:Events for High Road Leaders
REFRESH-INTERVAL;VALUE=DURATION:PT1H
X-Robots-Tag:noindex
X-PUBLISHED-TTL:PT1H
BEGIN:VTIMEZONE
TZID:America/Edmonton
BEGIN:DAYLIGHT
TZOFFSETFROM:-0700
TZOFFSETTO:-0600
TZNAME:MDT
DTSTART:20240310T090000
END:DAYLIGHT
BEGIN:STANDARD
TZOFFSETFROM:-0600
TZOFFSETTO:-0700
TZNAME:MST
DTSTART:20241103T080000
END:STANDARD
BEGIN:DAYLIGHT
TZOFFSETFROM:-0700
TZOFFSETTO:-0600
TZNAME:MDT
DTSTART:20250309T090000
END:DAYLIGHT
BEGIN:STANDARD
TZOFFSETFROM:-0600
TZOFFSETTO:-0700
TZNAME:MST
DTSTART:20251102T080000
END:STANDARD
BEGIN:DAYLIGHT
TZOFFSETFROM:-0700
TZOFFSETTO:-0600
TZNAME:MDT
DTSTART:20260308T090000
END:DAYLIGHT
BEGIN:STANDARD
TZOFFSETFROM:-0600
TZOFFSETTO:-0700
TZNAME:MST
DTSTART:20261101T080000
END:STANDARD
BEGIN:DAYLIGHT
TZOFFSETFROM:-0700
TZOFFSETTO:-0600
TZNAME:MDT
DTSTART:20270314T090000
END:DAYLIGHT
BEGIN:STANDARD
TZOFFSETFROM:-0600
TZOFFSETTO:-0700
TZNAME:MST
DTSTART:20271107T080000
END:STANDARD
END:VTIMEZONE
BEGIN:VEVENT
DTSTART;TZID=America/Edmonton:20260123T090000
DTEND;TZID=America/Edmonton:20260123T160000
DTSTAMP:20260419T130122
CREATED:20250930T191932Z
LAST-MODIFIED:20260324T011630Z
UID:10000209-1769158800-1769184000@highroadleaders.ca
SUMMARY:High Road Summit | Maximum Impact ~ Red Deer
DESCRIPTION:Secure Your Seat for Maximum Impact!\n			\n				\n				\n				\n				\n				Don’t miss this opportunity to be part of a transformative leadership event. Register now to secure your spot and start building your Maximum Impact. \n			\n			\n				\n				\n				\n				\n				\n				\n				\n				\n				\n				Bring your team of 5 or more and use discount code TEAM15 for 15% discount.(Excludes Youth / Young Adult)
URL:https://highroadleaders.ca/event/maximum-impact-red-deer/
LOCATION:Red Deer Chamber of Commerce\, 3017 Gaetz Ave\, Red Deer\, AB\, T4N 5Y6\, Canada
CATEGORIES:Conferences,Red Deer
ATTACH;FMTTYPE=image/png:https://highroadleaders.ca/wp-content/uploads/2025/09/Red-Deer-Feature-Image.png
ORGANIZER;CN="Julie Crawford":MAILTO:julie@highroadleaders.ca
END:VEVENT
BEGIN:VEVENT
DTSTART;TZID=America/Edmonton:20251120T090000
DTEND;TZID=America/Edmonton:20251120T130000
DTSTAMP:20260419T130122
CREATED:20250915T183916Z
LAST-MODIFIED:20251108T193902Z
UID:10000203-1763629200-1763643600@highroadleaders.ca
SUMMARY:Trust Workshop - Red Deer
DESCRIPTION:Building Trust in Business & Leadership\nWe’re excited to bring our Trust Workshop to the Red Deer Chamber of Commerce for the very first time! \nTrust is the foundation of every strong relationship—whether in business\, leadership\, or community. Without it\, teams struggle\, opportunities stall\, and connections weaken. With it\, growth accelerates\, collaboration thrives\, and people feel safe to contribute their best. \nIn this engaging and interactive workshop\, you’ll discover: \n\n\nWhy trust is the currency of influence and success. \n\n\nThe key behaviours that build (and break) trust. \n\n\nPractical ways to strengthen trust in your team\, your business\, and your community. \n\n\nWhether you’re leading a business\, managing a team\, or looking to grow stronger personal and professional relationships\, this workshop will give you the tools and confidence to build trust that lasts. \nWe look forward to meeting the Red Deer business community\, sharing stories\, and learning together. Come ready to connect\, reflect\, and leave inspired with actionable steps to take back to your workplace.
URL:https://highroadleaders.ca/event/trust-workshop-red-deer/
LOCATION:Red Deer Chamber of Commerce\, 3017 Gaetz Ave\, Red Deer\, AB\, T4N 5Y6\, Canada
CATEGORIES:Conferences,Red Deer,Workshop
ATTACH;FMTTYPE=image/png:https://highroadleaders.ca/wp-content/uploads/2025/09/Trust-Event-Image.png
ORGANIZER;CN="Sterling Martin":MAILTO:sterling@highroadleaders.ca
END:VEVENT
END:VCALENDAR