BEGIN:VCALENDAR
VERSION:2.0
PRODID:-//High Road Leaders - ECPv6.15.20//NONSGML v1.0//EN
CALSCALE:GREGORIAN
METHOD:PUBLISH
X-ORIGINAL-URL:https://highroadleaders.ca
X-WR-CALDESC:Events for High Road Leaders
REFRESH-INTERVAL;VALUE=DURATION:PT1H
X-Robots-Tag:noindex
X-PUBLISHED-TTL:PT1H
BEGIN:VTIMEZONE
TZID:America/Edmonton
BEGIN:DAYLIGHT
TZOFFSETFROM:-0700
TZOFFSETTO:-0600
TZNAME:MDT
DTSTART:20240310T090000
END:DAYLIGHT
BEGIN:STANDARD
TZOFFSETFROM:-0600
TZOFFSETTO:-0700
TZNAME:MST
DTSTART:20241103T080000
END:STANDARD
BEGIN:DAYLIGHT
TZOFFSETFROM:-0700
TZOFFSETTO:-0600
TZNAME:MDT
DTSTART:20250309T090000
END:DAYLIGHT
BEGIN:STANDARD
TZOFFSETFROM:-0600
TZOFFSETTO:-0700
TZNAME:MST
DTSTART:20251102T080000
END:STANDARD
BEGIN:DAYLIGHT
TZOFFSETFROM:-0700
TZOFFSETTO:-0600
TZNAME:MDT
DTSTART:20260308T090000
END:DAYLIGHT
BEGIN:STANDARD
TZOFFSETFROM:-0600
TZOFFSETTO:-0700
TZNAME:MST
DTSTART:20261101T080000
END:STANDARD
END:VTIMEZONE
BEGIN:VEVENT
DTSTART;TZID=America/Edmonton:20250828T160000
DTEND;TZID=America/Edmonton:20250828T173000
DTSTAMP:20260419T062748
CREATED:20250613T141558Z
LAST-MODIFIED:20250718T184305Z
UID:10000136-1756396800-1756402200@highroadleaders.ca
SUMMARY:3% Airdrie Meetup
DESCRIPTION: You’re Invited to 3% Airdrie Meetup at Old Town! \nConnect. Collaborate. Recharge. \n97% of the world will coast through life\, but 3% will fight to grow personally and rise above.  Be part of the 3% and join us for this monthly meetup.  Step away from your busy schedule and join us for a relaxed early evening of meaningful conversations\, networking\, and community at Old Town Pizza. \n When: 4th Thursday of the Month\, 4:00-5:30 pm Where: Old Town Pizza Who’s Invited: Local professionals and business leaders looking to grow\, connect\, and share ideas \nThis is your chance to: Build relationships with like-minded individuals in a welcoming atmosphere Exchange insights\, spark new ideas\, and explore collaborations Enjoy great food and conversation with people who get your drive and ambitions \nWhether you’re looking to meet new faces\, catch up with familiar ones\, or simply enjoy a break from your routine\, this gathering is for you. \nBring your business cards\, your stories\, and your appetite for good food and great company! We’d love to see you there. \n RSVP today to save your spot!\nTogether\, we can build connections that inspire growth and create lasting impact.
URL:https://highroadleaders.ca/event/3-airdrie-meetup-4/
LOCATION:Old Town Pizza\, 216 Edmonton Trail NE\, Airdrie\, AB\, T4B 1R9\, Canada
CATEGORIES:Airdrie Connections
ATTACH;FMTTYPE=image/png:https://highroadleaders.ca/wp-content/uploads/2025/06/Airdrie-3-Meetup-1600-x-900-px.png
END:VEVENT
END:VCALENDAR